BEGIN:VCALENDAR
VERSION:2.0
PRODID:-//In Focus Training - ECPv6.15.13//NONSGML v1.0//EN
CALSCALE:GREGORIAN
METHOD:PUBLISH
X-ORIGINAL-URL:https://infocus-training.com
X-WR-CALDESC:Events for In Focus Training
REFRESH-INTERVAL;VALUE=DURATION:PT1H
X-Robots-Tag:noindex
X-PUBLISHED-TTL:PT1H
BEGIN:VTIMEZONE
TZID:America/Chicago
BEGIN:DAYLIGHT
TZOFFSETFROM:-0600
TZOFFSETTO:-0500
TZNAME:CDT
DTSTART:20250309T080000
END:DAYLIGHT
BEGIN:STANDARD
TZOFFSETFROM:-0500
TZOFFSETTO:-0600
TZNAME:CST
DTSTART:20251102T070000
END:STANDARD
BEGIN:DAYLIGHT
TZOFFSETFROM:-0600
TZOFFSETTO:-0500
TZNAME:CDT
DTSTART:20260308T080000
END:DAYLIGHT
BEGIN:STANDARD
TZOFFSETFROM:-0500
TZOFFSETTO:-0600
TZNAME:CST
DTSTART:20261101T070000
END:STANDARD
BEGIN:DAYLIGHT
TZOFFSETFROM:-0600
TZOFFSETTO:-0500
TZNAME:CDT
DTSTART:20270314T080000
END:DAYLIGHT
BEGIN:STANDARD
TZOFFSETFROM:-0500
TZOFFSETTO:-0600
TZNAME:CST
DTSTART:20271107T070000
END:STANDARD
END:VTIMEZONE
BEGIN:VEVENT
DTSTART;TZID=America/Chicago:20260503T123000
DTEND;TZID=America/Chicago:20260503T183000
DTSTAMP:20260423T125858
CREATED:20260423T014905Z
LAST-MODIFIED:20260423T014905Z
UID:2236-1777811400-1777833000@infocus-training.com
SUMMARY:Texas License to Carry (LTC) - 5/3/2026
DESCRIPTION:License To Carry (LTC) In Person Training \n“In Focus Training: Master your firearm skills and obtain your License to Carry (LTC) with our immersive in-person course. Gain confidence\, knowledge\, and practical expertise in a safe and engaging environment led by our experienced instructors.” \n  \n \n  \n  \n\n\n                \n                        First Name*Last Name*Email*\n                            \n                        Phone*In Person Texas License to Carry*\n					\n					\n						Price:\n						\n					\n					\n				Credit / Debit Card Payment*\n					\n						Cardholder Name\n					\n					\n						Card Details\n					\n				\n          \n            \n            \n            \n            \n            \n            \n            \n            \n            \n            \n            \n            \n            \n        \n                        \n                        \n\n\n  \n  \nIf you’re looking for more convenience\, In Focus Training is now offering the approved Online Texas LTC Class. The class is four hours in length and is straight forward\, ending with an exam. Upon completing this exam come out with us and complete your proficiency test. \nTo take our Online Texas LTC Class please click the link below. The cost is $65 and the content is the same: \n\n\n\nEnroll Now!
URL:https://infocus-training.com/classes/texas-license-to-carry-ltc-5-3-2026/
LOCATION:Texas License to Carry\, 3915 S Sam Houston Pkwy E\, Houston\, TX\, 77047\, United States
CATEGORIES:Texas LTC
ATTACH;FMTTYPE=image/jpeg:https://infocus-training.com/wp-content/uploads/2025/05/multi-state-2.jpg
ORGANIZER;CN="In Focus Training%2C LLC":MAILTO:ataylor@infocus-training.com
END:VEVENT
END:VCALENDAR